BEGIN:VCALENDAR
VERSION:2.0
PRODID:-//Samoa Cricket - ECPv6.15.20//NONSGML v1.0//EN
CALSCALE:GREGORIAN
METHOD:PUBLISH
X-ORIGINAL-URL:https://samoacricket.ws
X-WR-CALDESC:Events for Samoa Cricket
REFRESH-INTERVAL;VALUE=DURATION:PT1H
X-Robots-Tag:noindex
X-PUBLISHED-TTL:PT1H
BEGIN:VTIMEZONE
TZID:Pacific/Apia
BEGIN:STANDARD
TZOFFSETFROM:+1300
TZOFFSETTO:+1300
TZNAME:+13
DTSTART:20220101T000000
END:STANDARD
END:VTIMEZONE
BEGIN:VEVENT
DTSTART;VALUE=DATE:20231009
DTEND;VALUE=DATE:20231010
DTSTAMP:20260425T090058
CREATED:20230315T230910Z
LAST-MODIFIED:20230315T231535Z
UID:4177-1696809600-1696895999@samoacricket.ws
SUMMARY:Savai'i Men's League
DESCRIPTION:
URL:https://samoacricket.ws/event/lightning-cup-savaii/
CATEGORIES:Senior Competition
END:VEVENT
BEGIN:VEVENT
DTSTART;VALUE=DATE:20230828
DTEND;VALUE=DATE:20230829
DTSTAMP:20260425T090058
CREATED:20230315T230750Z
LAST-MODIFIED:20230315T230750Z
UID:4175-1693180800-1693267199@samoacricket.ws
SUMMARY:Teuila Festival Trophy
DESCRIPTION:
URL:https://samoacricket.ws/event/teuila-festival-trophy/
CATEGORIES:Senior Competition
END:VEVENT
BEGIN:VEVENT
DTSTART;TZID=Pacific/Apia:20230522T080000
DTEND;TZID=Pacific/Apia:20230603T170000
DTSTAMP:20260425T090058
CREATED:20230309T034009Z
LAST-MODIFIED:20230309T034011Z
UID:4156-1684742400-1685811600@samoacricket.ws
SUMMARY:Men's & Women's Independence Cup Tournament
DESCRIPTION:
URL:https://samoacricket.ws/event/mens-womens-independence-cup-tournament/
CATEGORIES:Senior Competition
END:VEVENT
BEGIN:VEVENT
DTSTART;TZID=Pacific/Apia:20230515T080000
DTEND;TZID=Pacific/Apia:20230519T170000
DTSTAMP:20260425T090058
CREATED:20230309T032716Z
LAST-MODIFIED:20230309T032716Z
UID:4153-1684137600-1684515600@samoacricket.ws
SUMMARY:Samoa Game (Lighting Cup)
DESCRIPTION:
URL:https://samoacricket.ws/event/samoa-game-lighting-cup/
CATEGORIES:Senior Competition
END:VEVENT
BEGIN:VEVENT
DTSTART;VALUE=DATE:20230506
DTEND;VALUE=DATE:20230507
DTSTAMP:20260425T090058
CREATED:20230309T025519Z
LAST-MODIFIED:20230309T025519Z
UID:4151-1683331200-1683417599@samoacricket.ws
SUMMARY:Anzac Day One-Day
DESCRIPTION:
URL:https://samoacricket.ws/event/anzac-day-one-day/
CATEGORIES:Senior Competition
END:VEVENT
BEGIN:VEVENT
DTSTART;TZID=Pacific/Apia:20230415T080000
DTEND;TZID=Pacific/Apia:20230909T170000
DTSTAMP:20260425T090058
CREATED:20230309T020605Z
LAST-MODIFIED:20230309T021929Z
UID:4141-1681545600-1694278800@samoacricket.ws
SUMMARY:Apia Men's League
DESCRIPTION:
URL:https://samoacricket.ws/event/apia-mens-league/
CATEGORIES:Senior Competition
END:VEVENT
BEGIN:VEVENT
DTSTART;TZID=Pacific/Apia:20230322T080000
DTEND;TZID=Pacific/Apia:20230706T170000
DTSTAMP:20260425T090058
CREATED:20230309T042228Z
LAST-MODIFIED:20230309T042228Z
UID:4161-1679472000-1688662800@samoacricket.ws
SUMMARY:Business House Competition
DESCRIPTION:
URL:https://samoacricket.ws/event/business-house-competition/
CATEGORIES:Senior Competition
END:VEVENT
BEGIN:VEVENT
DTSTART;TZID=Pacific/Apia:20230218T080000
DTEND;TZID=Pacific/Apia:20230401T170000
DTSTAMP:20260425T090058
CREATED:20230216T234450Z
LAST-MODIFIED:20230316T013632Z
UID:4117-1676707200-1680368400@samoacricket.ws
SUMMARY:Apia Womens League 2023
DESCRIPTION:
URL:https://samoacricket.ws/event/apia-womens-league-2023/
CATEGORIES:Senior Competition
END:VEVENT
END:VCALENDAR