BEGIN:VCALENDAR
VERSION:2.0
PRODID:-//Samoa Cricket - ECPv6.15.20//NONSGML v1.0//EN
CALSCALE:GREGORIAN
METHOD:PUBLISH
X-WR-CALNAME:Samoa Cricket
X-ORIGINAL-URL:https://samoacricket.ws
X-WR-CALDESC:Events for Samoa Cricket
REFRESH-INTERVAL;VALUE=DURATION:PT1H
X-Robots-Tag:noindex
X-PUBLISHED-TTL:PT1H
BEGIN:VTIMEZONE
TZID:Pacific/Apia
BEGIN:STANDARD
TZOFFSETFROM:+1400
TZOFFSETTO:+1300
TZNAME:+13
DTSTART:20210403T140000
END:STANDARD
END:VTIMEZONE
BEGIN:VTIMEZONE
TZID:UTC
BEGIN:STANDARD
TZOFFSETFROM:+0000
TZOFFSETTO:+0000
TZNAME:UTC
DTSTART:20210101T000000
END:STANDARD
END:VTIMEZONE
BEGIN:VEVENT
DTSTART;VALUE=DATE:20230321
DTEND;VALUE=DATE:20230322
DTSTAMP:20260425T055429
CREATED:20230315T233047Z
LAST-MODIFIED:20230315T233047Z
UID:4187-1679356800-1679443199@samoacricket.ws
SUMMARY:World Down Syndrome Day
DESCRIPTION:
URL:https://samoacricket.ws/event/world-down-syndrome-day/
CATEGORIES:International
END:VEVENT
BEGIN:VEVENT
DTSTART;TZID=Pacific/Apia:20230311T080000
DTEND;TZID=Pacific/Apia:20230318T170000
DTSTAMP:20260425T055429
CREATED:20230308T232924Z
LAST-MODIFIED:20230309T022913Z
UID:4132-1678521600-1679158800@samoacricket.ws
SUMMARY:Womens & Men's Pacific Cup
DESCRIPTION:The Womens Pacific Cup 2023 is hosted by Fiji.
URL:https://samoacricket.ws/event/womens-pacific-cup/
CATEGORIES:International
END:VEVENT
BEGIN:VEVENT
DTSTART;TZID=Pacific/Apia:20230218T080000
DTEND;TZID=Pacific/Apia:20230401T170000
DTSTAMP:20260425T055429
CREATED:20230216T234450Z
LAST-MODIFIED:20230316T013632Z
UID:4117-1676707200-1680368400@samoacricket.ws
SUMMARY:Apia Womens League 2023
DESCRIPTION:
URL:https://samoacricket.ws/event/apia-womens-league-2023/
CATEGORIES:Senior Competition
END:VEVENT
BEGIN:VEVENT
DTSTART;VALUE=DATE:20230131
DTEND;VALUE=DATE:20230201
DTSTAMP:20260425T055429
CREATED:20230216T234008Z
LAST-MODIFIED:20230309T024456Z
UID:4115-1675123200-1675209599@samoacricket.ws
SUMMARY:Unified Holibats Under 17 Competition
DESCRIPTION:
URL:https://samoacricket.ws/event/unified-holibats-under-17-competition/
LOCATION:Tunaimato Sports Complex\, Tunaimato\, Apia\, Samoa
CATEGORIES:Development Program,Junior Competition
ORGANIZER;CN="Samoa Cricket":MAILTO:samoa.cricket@samoacricket.ws
END:VEVENT
BEGIN:VEVENT
DTSTART;VALUE=DATE:20221203
DTEND;VALUE=DATE:20221204
DTSTAMP:20260425T055429
CREATED:20220222T234602Z
LAST-MODIFIED:20220222T234602Z
UID:3451-1670025600-1670111999@samoacricket.ws
SUMMARY:International Day of People with Disabilities
DESCRIPTION:
URL:https://samoacricket.ws/event/international-day-of-people-with-disabilities/
END:VEVENT
BEGIN:VEVENT
DTSTART;VALUE=DATE:20221125
DTEND;VALUE=DATE:20221126
DTSTAMP:20260425T055429
CREATED:20220222T234531Z
LAST-MODIFIED:20220222T234531Z
UID:3449-1669334400-1669420799@samoacricket.ws
SUMMARY:International Day of Elimination of Violence against Women
DESCRIPTION:
URL:https://samoacricket.ws/event/international-day-of-elimination-of-violence-against-women/
END:VEVENT
BEGIN:VEVENT
DTSTART;VALUE=DATE:20221011
DTEND;VALUE=DATE:20221012
DTSTAMP:20260425T055429
CREATED:20220222T234448Z
LAST-MODIFIED:20220222T234448Z
UID:3446-1665446400-1665532799@samoacricket.ws
SUMMARY:International Day of the Girl Child
DESCRIPTION:
URL:https://samoacricket.ws/event/international-day-of-the-girl-child/
END:VEVENT
BEGIN:VEVENT
DTSTART;VALUE=DATE:20220804
DTEND;VALUE=DATE:20220813
DTSTAMP:20260425T055429
CREATED:20220222T232946Z
LAST-MODIFIED:20220222T232946Z
UID:3434-1659571200-1660348799@samoacricket.ws
SUMMARY:Pacific Seniors 60+
DESCRIPTION:
URL:https://samoacricket.ws/event/pacific-seniors-60/
LOCATION:Tunaimato Sports Complex\, Tunaimato\, Apia\, Samoa
ORGANIZER;CN="Samoa Cricket":MAILTO:samoa.cricket@samoacricket.ws
END:VEVENT
BEGIN:VEVENT
DTSTART;VALUE=DATE:20220406
DTEND;VALUE=DATE:20220407
DTSTAMP:20260425T055429
CREATED:20220222T234144Z
LAST-MODIFIED:20220222T234144Z
UID:3444-1649203200-1649289599@samoacricket.ws
SUMMARY:International Day of Sport for Development and Peace
DESCRIPTION:
URL:https://samoacricket.ws/event/international-day-of-sport-for-development-and-peace/
END:VEVENT
BEGIN:VEVENT
DTSTART;VALUE=DATE:20220402
DTEND;VALUE=DATE:20220403
DTSTAMP:20260425T055429
CREATED:20220222T233758Z
LAST-MODIFIED:20220222T233758Z
UID:3442-1648857600-1648943999@samoacricket.ws
SUMMARY:World Autism Day
DESCRIPTION:
URL:https://samoacricket.ws/event/world-autism-day/
END:VEVENT
BEGIN:VEVENT
DTSTART;VALUE=DATE:20220308
DTEND;VALUE=DATE:20220309
DTSTAMP:20260425T055429
CREATED:20220222T233713Z
LAST-MODIFIED:20220222T233713Z
UID:3440-1646697600-1646783999@samoacricket.ws
SUMMARY:International Women's Day
DESCRIPTION:
URL:https://samoacricket.ws/event/international-womens-day/
END:VEVENT
END:VCALENDAR